Workbook

Sheet Listen
B1: E3 - Netz/-Umspannebenen | D1: E3 - Einspeiseart | F1: Einspeiser in E3 | H1: Energieträger E6. | J1: Kkauf - Anlagengruppe | K1: Unterer Rand StromNE | L1: Oberer Rand StromNEV | N1: Kkauf - BKZ | P1: WAV-Positionen | R1: Kategorie | T1: Tabellenblätter für Erläuterungen | V1: Vorgelagerte Netzbetreiber für Auswahl in E2 | X1: Netz- und Umspannebenen für Auswahl in E2 | Z1: Jahre für KKAuf | AB1: Hilfstab. Ausw ID E8
B2: Bitte wählen | D2: Bitte wählen | F2: Bitte wählen | H2: Bitte wählen | J2: Bitte wählen | N2: Bitte wählen | P2: Bitte wählen | R2: Verpächter | T2: Bitte wählen | V2: Bitte wählen | X2: Bitte wählen | Z2: Bitte wählen | AA2: Bitte wählen | AB2: ='E8. KKAuf_Berechnung'!B11 -> 1
B3: HöS/HS | D3: EE-Anlagen - Bestand nicht volatil | F3: BHKW | H3: BHKW | J3: Kabel 220 kV | K3: 40 | L3: 50 | N3: Baukostenzuschüsse | P3: Selbst geschaffene gewerbliche Schutzrechte und ähnliche Rechte und Werte | R3: anderer Netzbereich | T3: A. Allgemeine Informationen | V3: 50Hertz Transmission GmbH | X3: HöS | Z3: 2022 | AA3: vor 2024 | AB3: ='E8. KKAuf_Berechnung'!B18 -> 0
B4: HS | D4: EE-Anlagen - nicht volatil - Inbetriebnahme nach 2022 | F4: Biogas | H4: Biogas | J4: Kabel 110 kV | K4: 40 | L4: 50 | N4: Netzanschlusskostenbeiträge | P4: entgeltlich erworbene Konzessionen, gewerbliche Schutzrechte und ähnliche Rechte und Werte sowie Lizenzen an solchen Rechten und Werten | R4: Voll-Netzzugang (§ 26 I ARegV) nach dem Basisjahr | T4: A1. Umsatzerlöse | V4: AllgäuNetz GmbH & Co. KG | X4: HöS/HS | Z4: 2023 | AA4: 2024 | AB4: ='E8. KKAuf_Berechnung'!B25 -> 0
B5: HS/MS | D5: EE-Anlagen - volatil | F5: Biomasse | H5: Biomasse | J5: Kabel Mittelspannungsnetz | K5: 40 | L5: 45 | N5: Investitionszuschüsse | P5: Geschäfts- oder Firmenwert | R5: Teil-Netzzugang (§ 26 II, III ARegV) nach dem Basisjahr | T5: A2. Bilanz | V5: Amprion GmbH | X5: HS | Z5: 2024 | AA5: 2025 | AB5: ='E8. KKAuf_Berechnung'!B32 -> 0
B6: MS | D6: KWK-Anlagen - Bestand | F6: Deponiegas | H6: Deponiegas | J6: Kabel 1 kV | K6: 40 | L6: 45 | P6: geleistete Anzahlungen auf immaterielle Vermögensgegenstände | R6: Teil-Netzabgang (§ 26 II, III ARegV) nach dem Basisjahr | T6: A3. GuV | V6: Avacon Netz GmbH | X6: HS/MS | Z6: 2025 | AA6: 2026 | AB6: ='E8. KKAuf_Berechnung'!B39 -> 0
B7: MS/NS | D7: KWK-Anlagen - Inbetriebnahme nach 2022 | F7: Geothermie | H7: Geothermie | J7: Kabel Abnehmeranschlüsse | K7: 35 | L7: 45 | N7: Vergleich in Tab. A. | P7: geleistete Anzahlungen und Anlagen im Bau des Sachanlagevermögens | R7: sonstiger Zu- bzw. Abgang | T7: A4. Anlagenspiegel | V7: AVU Netz GmbH | X7: MS | Z7: 2026 | AA7: 2027 | AB7: ='E8. KKAuf_Berechnung'!B46 -> 0
B8: NS | D8: Sonstige Anlagen - Bestand | F8: Grubengas | H8: Grubengas | J8: Freileitungen 110-380kV | K8: 40 | L8: 50 | N8: Bitte wählen | P8: Grundstücke | T8: A5. Energiefluss | V8: badenovaNETZE GmbH | X8: MS/NS | Z8: 2027 | AA8: 2028 | AB8: ='E8. KKAuf_Berechnung'!B53 -> 0
D9: Sonstige Anlagen - Inbetriebnahme nach 2022 | F9: Klärgas | H9: Klärgas | J9: Freileitungen Mittelspannungsnetz | K9: 30 | L9: 40 | N9: Ja | P9: grundstücksgleiche Rechte | T9: A6. EE-Wälzung | V9: Bayernwerk Netz GmbH | X9: NS | Z9: 2028 | AB9: ='E8. KKAuf_Berechnung'!B60 -> 0
D10: Rückspeisung | F10: konventionelle Anlagen | H10: konventionelle Anlagen | J10: Freileitungen 1 kV | K10: 30 | L10: 40 | N10: Nein | T10: E1. Erzielb. Erlöse | V10: Bielefelder Netz GmbH | AB10: ='E8. KKAuf_Berechnung'!B67 -> 0
B11: Verfahrensart | F11: Müllverbrennung | H11: Müllverbrennung | J11: Freileitungen Abnehmeranschlüsse | K11: 30 | L11: 35 | T11: E2. Vorgelagerte Netzkosten | V11: Bonn-Netz GmbH | AB11: ='E8. KKAuf_Berechnung'!B74 -> 0
B12: Bitte wählen | F12: Rückspeisung fremde Netze | H12: Solar | J12: Stationseinrichtungen und Hilfsanlagen inklusive Trafo und Schalter | K12: 35 | L12: 45 | T12: E3. Dezentrale Einspeisung | V12: Braunschweiger Netz GmbH | AB12: ='E8. KKAuf_Berechnung'!B81 -> 0
B13: Regelverfahren | F13: Solar | H13: Wasser | J13: Schutz-, Mess- und Überspannungsschutzeinrichtungen, Fernsteuer-, Fernmelde-, Fernmess- und Automatikanlagen sowie Rundsteuerungsanlagen einschließlich Kopplungs-, Trafo- und Schaltanlagen | K13: 25 | L13: 30 | T13: E4.a. MSB (inkl. Messung) | V13: Celle-Uelzen Netz GmbH | AB13: ='E8. KKAuf_Berechnung'!B88 -> 0
B14: Vereinfachtes Verfahren | F14: Wasser | H14: Wind onshore | J14: Sonstiges | K14: 20 | L14: 30 | T14: E4.b. POG iMSys | V14: Covestro Brunsbüttel Energie GmbH | AB14: ='E8. KKAuf_Berechnung'!B95 -> 0
F15: Wind | H15: Wind offshore | J15: 380/220/110/30/10 kV-Stationen | K15: 25 | L15: 35 | T15: E6. fin.Ausgl. | V15: DB Energie GmbH | AB15: ='E8. KKAuf_Berechnung'!B102 -> 0
B16: Auswahl Hinzurechnungen | F16: Sonstiges | H16: Sonstiges | J16: Hauptverteilerstationen | K16: 25 | L16: 35 | T16: E7. BKZ_NAB_IZ | V16: Dortmunder Netz GmbH | AB16: ='E8. KKAuf_Berechnung'!B109 -> 0
B17: Nachaktivierung | J17: Ortsnetzstationen | K17: 30 | L17: 40 | T17: E8. KKauf_Berechnung | V17: E.DIS Netz GmbH | AB17: ='E8. KKAuf_Berechnung'!B116 -> 0
B18: Schlüsseländerung | J18: Kundenstationen | K18: 30 | L18: 40 | T18: E8.a. KKauf_SAV | V18: EAM Netz GmbH | AB18: ='E8. KKAuf_Berechnung'!B123 -> 0
B19: Umbuchung | J19: Stationsgebäude | K19: 30 | L19: 50 | T19: E8.b. KKauf_WAV | V19: EGC Energie- und Gebäudetechnik Control GmbH & Co. KG | AB19: ='E8. KKAuf_Berechnung'!B130 -> 0
B20: Sonstiges | J20: Allgemeine Stationseinrichtungen, Hilfsanlagen | K20: 25 | L20: 30 | T20: E8.c. KKAuf_BKZ_NAB_IZ | V20: ELE Verteilnetz GmbH | AB20: ='E8. KKAuf_Berechnung'!B137 -> 0
J21: ortsfeste Hebezeuge und Lastenaufzüge einschließlich Laufschienen, Außenbeleuchtung in Umspann- und Schaltanlagen | K21: 25 | L21: 30 | T21: E10. Sonstiges | V21: Elektrizitätswerk Max Peissker | AB21: ='E8. KKAuf_Berechnung'!B144 -> 0
B22: Auswahl Kürzung | J22: Schalteinrichtungen | K22: 30 | L22: 35 | T22: F. Zusammenfassung | V22: Elektroenergieversorgung Cottbus GmbH | AB22: ='E8. KKAuf_Berechnung'!B151 -> 0
B23: Anlagenabgang | J23: Rundsteuer-, Fernsteuer-, Fernmelde-, Fernmess-, Automatikanlagen, Strom- und Spannungswandler, Netzschutzeinrichtungen | K23: 25 | L23: 30 | T23: G. Auflösung RegKto | V23: ENA Energienetze Apolda GmbH | AB23: ='E8. KKAuf_Berechnung'!B158 -> 0
B24: Schlüsseländerung | J24: Ortsnetz-Transformatoren, Kabelverteilerschränke | K24: 30 | L24: 35 | V24: enercity Netz GmbH | AB24: ='E8. KKAuf_Berechnung'!B165 -> 0
B25: Umbuchung | J25: Zähler, Messeinrichtungen, Uhren, TFR-Empfänger | K25: 20 | L25: 25 | V25: Energie- und Wasserversorgung Altenburg GmbH | AB25: ='E8. KKAuf_Berechnung'!B172 -> 0
B26: Sonstiges | J26: Telefonleitungen | K26: 30 | L26: 40 | V26: Energie Waldeck-Frankenberg GmbH | AB26: ='E8. KKAuf_Berechnung'!B179 -> 0
J27: Fahrbare Stromaggregate | K27: 15 | L27: 25 | V27: Energienetze Berlin GmbH | AB27: ='E8. KKAuf_Berechnung'!B186 -> 0
J28: Grundstücksanlagen, Bauten für Transportwesen | K28: 25 | L28: 35 | V28: Energienetze Mittelrhein GmbH & Co. KG | AB28: ='E8. KKAuf_Berechnung'!B193 -> 0
J29: Betriebsgebäude | K29: 50 | L29: 60 | V29: Energienetze Offenbach GmbH | AB29: ='E8. KKAuf_Berechnung'!B200 -> 0
J30: Verwaltungsgebäude | K30: 60 | L30: 70 | V30: Energiequelle GmbH & Co. Windpark Feldheim 2006 KG | AB30: ='E8. KKAuf_Berechnung'!B207 -> 0
J31: Geschäftsausstattung (ohne EDV, Werkzeuge/Geräte); Vermittlungseinrichtungen | K31: 8 | L31: 10 | V31: Energieversorgung Guben GmbH | AB31: ='E8. KKAuf_Berechnung'!B214 -> 0
J32: Werkzeuge/ Geräte | K32: 14 | L32: 18 | V32: Energieversorgung Halle Netz GmbH | AB32: ='E8. KKAuf_Berechnung'!B221 -> 0
J33: Lagereinrichtung | K33: 14 | L33: 25 | V33: Energieversorgung Inselsberg GmbH | AB33: ='E8. KKAuf_Berechnung'!B228 -> 0
J34: Hardware | K34: 4 | L34: 8 | V34: Energieversorgung Sylt GmbH | AB34: ='E8. KKAuf_Berechnung'!B235 -> 0
J35: Software | K35: 3 | L35: 5 | V35: Energiewerke Zeulenroda GmbH | AB35: ='E8. KKAuf_Berechnung'!B242 -> 0
J36: Leichtfahrzeuge | K36: 5 | L36: 5 | V36: energis-Netzgesellschaft mbH | AB36: ='E8. KKAuf_Berechnung'!B249 -> 0
J37: Schwerfahrzeuge | K37: 8 | L37: 8 | V37: ENERVIE Vernetzt GmbH | AB37: ='E8. KKAuf_Berechnung'!B256 -> 0
J38: moderne Messeinrichtungen | K38: 13 | L38: 18 | V38: e-netz Südhessen AG | AB38: ='E8. KKAuf_Berechnung'!B263 -> 0
J39: Smart-Meter-Gateway | K39: 8 | L39: 13 | V39: EnR Energienetze Rudolstadt GmbH | AB39: ='E8. KKAuf_Berechnung'!B270 -> 0
V40: ENRO Ludwigsfelde Netz GmbH | AB40: ='E8. KKAuf_Berechnung'!B277 -> 0
...

Sheet Ausfüllhilfe
B1: Ausfüllhilfe
B3: I Übersicht Tabellenblätter
B5: A. Allgemeine Informationen
B6: A1. Umsatzerlöse
B7: A2. Bilanz
B8: A3. GuV
B9: A4. Anlagenspiegel
B10: A5. Energiefluss
B11: A6. EE-Wälzung
B12: E1. Erzielb. Erlöse
B13: E2. Vorgelagerte Netzkosten
B14: E3. Dezentrale Einspeisung
... B38: A. Allgemeine Informationen
B40: Abgabedatum: | C40: Das Datum an dem der Erhebungsbogen an die Bundesnetzagentur übermittelt wurde.
B41: Firma und Rechtsform des Stromnetzbetreibers: | C41: Der aktuelle im Handelsregister eingetragene Name des Stromnetzbetreibers.
B42: Betriebsnummer der Bundesnetzagentur: | C42: Hier ist die von der Bundesnetzagentur dem Stromnetzbetreiber zugewiesene aktuelle Betriebsnummer einzutragen.
B43: Netznummer der Bundesnetzagentur: | C43: Hat der Stromnetzbetreiber mehrere Netze, so ist hier die jeweilige von der Bundesnetzagentur zugeordnete Netznummer für das betreffende Netz einzutragen.
B44: MaStR-Nr. | C44: Die Identifikationsnummer des Netzbetreibers in dem bei der Bundesnetzagentur geführten Marktstammdatenregister. Im Marktstammdatenregister werden MaStR-Nummern u. a. für Marktakteure, Marktrollen und Anlagen vergeben. Die Nummer besteht aus drei Buchstaben und zwölf Ziffern. Über die Buchstaben ist erkennbar, um was für eine Marktfunktion es sich dabei handelt, zum Beispiel "SNB" für einen Stromnetzbetreiber.
B45: Mitteilung der für die Führung des Regulierungs-kontos notwendigen Daten des Kalenderjahres: | C45: Angabe des jeweiligen Jahres.
B47: A1. Umsatzerlöse
B49: Die abgefragten Daten aus dem Jahresabschluss des jeweiligen Jahres dienen dem Abgleich der erzielten Umsatzerlöse laut Tätigkeitsabschluss des jeweiligen Jahres mit der zulässigen Erlösobergrenze. Hierzu sind zu den Erlösen aus Netzentgelten (C4) weitere Erlöse (C5:C22) zu addieren, die nicht in den Netzentgelten enthalten gewesen waren, um letztlich den Wert der erzielten Umsatzerlöse (C23) zu erreichen. Unter der Position "sonstige Erlöse aus Entgelten" können auch sonstige Buchungen, die nicht als Umsatzerlöse berücksichtigt wurden (wie beispielsweise Erlöskorrekturen aus dem Vorjahr) ausgewiesen werden. Diese sind jedoch dann näher zu erläutern.
B51: A2. Bilanz
B53: Die Darlegung der Bilanz für das letzte abgeschlossene Geschäftsjahr. Es erfolgt die Aufteilung in Sparten und Aktivitäten. Die Aktivseite der Bilanz wird unterteilt in Anlagevermögen, Umlaufvermögen, Rechnungsabgrenzungsposten und Sonderverlustkonto aus Rückstellungsbildung. Die Passivseite wird eingeteilt in Eigenkapital, Sonderposten mit Rücklagenanteil, Sonderposten für Investitionszuschüsse, Baukostenzuschüsse, Rückstellungen, Verbindlichkeiten und Rechnungsabgrenzungsposten.
B55: A3. GuV
B57: Die Darstellung der Gesamtschau des Unternehmens für das letzte abgeschlossene Geschäftsjahr. Auch hier erfolgt die Aufteilung in Sparten und Aktivitäten. Bei der Eingabe der Werte ist darauf zu achten, dass bei Aufwendungen ein Minuszeichen vorangestellt wird.
B59: A4. Anlagenspiegel
B61: ="Auf diesem Tabellenblatt sind der Anlagenspiegel der Tätigkeit Stromverteilung des Netzbetreibers anzugeben. Sofern Verpächter oder Subverpächter vorhanden sind, sind hier auch die jeweiligen Anlagenspiegel der Tätigkeit "&"Stromverteilung für jeden Verpächter bzw. Subverpächter ab der Spalte AF getrennt anzugeben. Die Bezeichnungen der Verpächter/Subverpächter sind im Tabellenblatt E8. KKauf_Berechnung anzugeben und werden aus diesem Tabellenblatt übernommen. Das "&"Tabellenblatt ist nur für die Jahre 2022 bis "&'A. Allgemeine Informationen'!C17&" zu befüllen." -> Auf diesem Tabellenblatt sind der Anlagenspiegel der Tätigkeit Stromverteilung des Netzbetreibers anzugeben. Sofern Verpächter oder Subverpächter vorhanden sind, sind hier auch die jeweiligen Anlagenspiegel der Tätigkeit Stromverteilung für jeden Verpächter bzw. Subverpächter ab der Spalte AF getrennt anzugeben. Die Bezeichnungen der Verpächter/Subverpächter sind im Tabellenblatt E8. KKauf_Berechnung anzugeben und werden aus diesem Tabellenblatt übernommen. Das Tabellenblatt ist nur für die Jahre 2022 bis 2025 zu befüllen.
B63: A5. Energiefluss
B65: Auf diesem Tabellenblatt ist der Energiefluss des Netzbetreibers anzugeben. Vom Netzbetreiber sind die gelb markierten Zellen zu befüllen, alle anderen Zellen errechnen sich aus den Angaben aus anderen Tabellenblättern des Erhebungsbogens. Eintragungen in den Spalten "Sonstige" bei den Ein- und Ausspeisungen sind im Tabellenblatt "H. Erläuterungen" zu beschreiben.
B67: A6. EE-Wälzung
B69: Dieses Tabellenblatt dient der Ermittlung der Differenzen zwischen dem Wälzungsbetrag, der unter Zugrundelegung der nach § 4 ARegV angepassten Erlösobergrenze für das Kalenderjahr t seitens des Netzbetreibers ermittelt wurde, und dem Wälzungsbetrag, der sich unter Zugrundelegung der im Nachgang im Rahmen des Regulierungskontos geprüften Erlösobergrenze für das Kalenderjahr t ergibt (vgl. Tenorziffer 10 der Festlegung BK8-24-001-A). Mit anderen Worten dient das Tabellenblatt dem Plan-/Istabgleich der EE-Kostenwälzung. In den Spalten C und E sind zunächst die Werte aus dem vorläufigen Preisblatt, das zum 15.10. veröffentlicht wurde, einzutragen. In den Spalten F und G errechnet das Tabellenblatt daraufhin den an den ÜNB gemeldeten Wälzungsbetrag sowie das Verhältnis der Kostenbasis der Netz- oder Umspannebene zur Kostenbasis Gesamt. Dieses Verhältnis dient in der Folge der vereinfachten Zuordnung der Kosten auf die betriebenen Netz- und Umspannebenen. Die Zuordnung der Kosten auf die Netz- und Umspannebenen ist im Rahmen des Regulierungskontoverfahren grundsätzlich nicht vorgesehen, für den Plan-/Istabgleich der EE-Kostenwälzung aber erforderlich. Die vereinfachte bzw. pauschale Zuordnung der Kosten erfüllt diesen Zweck bei minimalem Aufwand für Netzbetreiber und Regulierungsbehörde. Zudem kann der Netzbetreiber im Einzelfall eine abweichende, konkrete Zuordnung der Kosten vornehmen (s.u.). In den Spalten H bis N sind die Summenwerte (Differenz von Plan zu Ist) des Plan-/Istabgleichs der verschiedenen Kostenpositionen einzutragen. Mit dem zuvor errechneten Verhältnis werden die Kosten den betriebenen Netz- und Umspannebenen zugeordnet. In den Spalten O bis R wird auf dieser Basis die Differenz zwischen korrigiertem Wälzugnsbetrag, also wie er sich nach Plan-/Istabgleich der Kosten ergibt, und ursprünglichem Wälzungsbetrag errechnet. Diese Beträge (Spalte R) sind im Rahmen der nächsten EE-Kostenwälzung vom Netzbetreiber nach Abschluss des Regulierungskontoverfahrens zu berücksichtigen. Abweichend von der pauschalen Zuordnung kann der Netzbetreiber den Summenwert einer oder mehrere Kostenpositionen den einzelnen Netz- und Umspannebenen konkret zuordnen. Dieses Vorgehen ist rein optional. In diesem Fall muss der Netzbetreiber sämtliche Zellen der entsprechenden Spalte überschreiben. Möchte der Netzbetreiber beispielsweise den Summenwert des Plan-/Istabgleichs des KKAuf den einzelnen Netz- und Umspannebenen konkret zuordnen, muss er die Zellen H4 bis H8 überschreiben. Als Summe muss sich der Wert in der Zelle H10 ergeben. Es ist möglich, einzelnen Kostenpositionen (z. B. KKAuf, Spalte H) konkret zuzuordnen und im Übrigen (z. B. RegKt-Saldo, etc.) die pauschale Zuordnung zu den Netz-und Umspannebenen zu wählen. Sofern Kostenpositionen den Netz- und Umspannebenen konkret zugeordnet werden, muss jede dieser konkreten Zuordnungen im Tabellenblatt "H. Erläuterungen" nachvollziehbar beschrieben werden.
B71: E1. Erzielb. Erlöse
B73: Dieses Tabellenblatt dient zur Ermittlung der Differenz zwischen erzielbaren Erlösen und zulässigen Erlösen gemäß § 5 Abs. 1 S. 1 ARegV. Sofern der Netzbetreiber an der EE-Kostenwälzung des entsprechenden Jahres teilgenommen hat, ist in der Zelle C5 als davon-Position der nach § 4 ARegV zulässigen Erlöse der an den ÜNB am 15.10. gemeldete Wälzungsbetrag anzusetzen. Die Differenz wird mit Hilfe der Mengen und Entgelte ermittelt. Hierfür werden in der Spalte F die tatsächlichen physikalischen Absatzmengen des jeweiligen Jahres abgefragt. Es sollen nicht die abgegrenzten Absatzmengen aus dem Jahresabschluss entnommen werden. Im Ausnahmefall, dass die Netznutzung für einen RLM-Netzkunden unterjährig neu beginnt bzw. unterjährig beendet wird, ist entsprechend der von der BK6 im Musternetznutzungsvertrag unter § 8 Abs. 5 vorgegebenen Regelung zur Leistungspreisermittlung bei diesem Netznutzer die Jahreshöchstleistung tagesscharf entsprechend des Anteils der Zuordnung des Netznutzers am Abrechnungszeitraum zu berechnen (Die Berechnungsbasis entspricht bei Schaltjahren 366 Tagen, im Übrigen 365 Tagen). Wird der Leistungspreis für die Netznutzung bei diesem Netznutzer also z. B. nur für einen Monat (31 Tage) abgerechnet, ist die in die Tabelle E1. Erzielbare Erlöse einzutragende Jahreshöchstleistung als Multiplikation aus dem gemessenen maximalen Viertelstundenwert der Leistung multipliziert mit dem Faktor 31/365 zu berechnen. Soweit Netzreservekapazität beim vorgelagerten Netzbetreiber in Anspruch genommen wurde (Eintragung in Blatt E2), gilt bei der Eintragung der erzielbaren Erlöse folgendes: Die Kosten, die für die bestellte Netzreservekapazität anfallen, sind von den dezentralen Einspeisern zu entrichten, denen die Netzreservekapazität über die vermiedenen Netzentgelte zu Gute kommt. Die entsprechenden Erlöse sind vom Netzbetreiber als sonstige Erlösposition explizit auszuweisen. Bei der Kalkulation der Netzentgelte durften die entgangenen Erlöse aus § 19 Abs. 2 S. 1 und 2 StromNEV (exklusive steuerbare Verbrauchseinrichtungen in der NS gem. § 14a EnWG (z. B. Nachtspeicherheizungen und Wärmepumpen)) keinerlei Berücksichtigung finden. Dies bedeutet, dass die Netzentgeltkalkulation so zu erfolgen hatte, als ob es die Regelung gemäß § 19 Abs. 2 S. 1 und 2 StromNEV (exklusive steuerbare Verbrauchseinrichtungen in der NS gem. § 14a EnWG (z. B. Nachtspeicherheizungen und Wärmepumpen)) nicht gäbe. Dementsprechend wurden die genannten Sonderkunden gemäß § 19 Abs. 2 S. 1 und 2 StromNEV (exklusive steuerbare Verbrauchseinrichtungen in der NS gem. § 14a EnWG (z. B. Nachtspeicherheizungen und Wärmepumpen)) in der Netzentgeltkalkulation und Verprobung wie "normale" (nicht rabattierte) Kunden behandelt, so dass 100% der ungeminderten Erlöse und Mengen anzusetzen waren. Eine Erhöhung der allgemeinen Netzentgelte um die o.g. entgangenen Erlöse erfolgte somit nicht. Erlöse aus der Abrechnung von Kunden mit § 14a EnWG-Vereinbarung werden in Abhängigkeit zur Inbetriebnahme der steuerbaren Verbrauchseinrichtung in eigens dafür angelegten Feldern ermittelt. Seit 2025 ist von Verteilernetzbetreibern auch Modul 3 gemäß der Festlegung BK8-22/010-A abzurechnen. Zur Ermittlung der Erlöse durch Verbraucher mit Modul 3 sind die Arbeitspreise in der Niedriglasttarifstufe und der Hochlasttarifstufe, sowie die Anzahl der Kunden und die Jahresarbeit der Modul 3 – Kunden in den drei Tarifstufen einzupflegen. Der unterjährige Wechsel von Kunden in die § 14a EnWG Module kann über eine Durchschnittsangabe der Kundenanzahl im dafür vorgesehenen Feld abgebildet werden (vgl. auch Mengenangaben für Messstellenbetrieb)
B74: Analog zur Netzentgeltkalkulation sind die vollständigen Mengen, also auch die vollständigen Mengen der Sonderkunden gemäß § 19 Abs. 2 S. 1 und 2 StromNEV, beim Ausweis der erzielbaren Erlöse zu 100% anzusetzen. Bei dem Ausweis der erzielbaren Erlöse im Tabellenblatt "E1. Erzielb. Erlöse" wird dementsprechend keine Unterscheidung nach "normalen" Kunden und Sonderkunden gemäß § 19 Abs. 2 S. 1 und 2 StromNEV gemacht, so dass sich aus der Multiplikation der bei jedem Netznutzer ungeminderten Netzentgelte mit den vollständigen Mengen die erzielbaren Erlöse ergeben. Beim Messstellenbetrieb (einschließlich Messung) sind keine Bestandgrößen (Anfangs- oder Endbestand) sondern Durchschnittsmengen, die die erzielbaren Erlöse widerspiegeln, einzutragen. Bei den sonstigen Entgelten "Erlösminderungen aus Vereinbarungen gemäß § 3 Abs. 1 Nr. 1 KAV" sind die Erlösminderungen durch den Kommunalrabatt einzutragen (negative Beträge). Bemessungsgrundlage der Erlösminderung sind Netznutzungsentgelte ggfs. abzüglich verschiedener Netzentgeltreduzierungen nach § 14a EnWG. Die rabattierten Mengen der jeweiligen Fallklasse sind anzugeben, zugleich sind diese aber in den Entnahmemengen oben enthalten. Insolvenzbedingte Forderungsausfälle sind weder bei den Mengen der erzielbaren Erlöse, noch an anderen Stellen des Errhebungsbogens einzutragen. Sollte das Unternehmen trotz der Rechtsprechung des BGH (Beschluss vom 10.11.2020, EnVZ 5/20) eine Berücksichtigung beantragen, so ist eine solche allein im schriftlichen Antrag zu formulieren. Im Erhebungsbogen darf dazu keine Eintragung vorgenommen werden
B76: E2. Vorgelagerte Netzkosten
B78: Mit diesem Tabellenblatt wird die Differenz zwischen den tatsächlichen Kosten des vorgelagerten Netzes und den hierfür angesetzten Plankosten ermittelt. Dafür werden Daten in Bezug auf die vorgelagerten Netzbetreiber abgefragt. Diese Datenmeldung kann entweder mithilfe der Marktlokation bzw. der Meldepunkte beim vorgelagerten Netzbetreiber erfolgen oder der Netzbetreiber entscheidet sich für eine zusammengefasste Eintragung der Daten. Zusammenfassungen der Daten sind dann jeweils für einen vorgelagerten Netzbetreiber, eine Netz- bzw. Umspannebene und </> 2.500 h vorzunehmen. Im nächsten Schritt erfolgt die Abfrage der Ist-Mengen für die Positionen Leistung, Arbeit, Messstellenbetrieb (inkl. Messung). Die Leistungs- und Arbeitswerte ggü. den vorgelagerten Netzbetreibern sind grundsätzlich in den dafür vorgesehen Spalten Leistung und Arbeit einzutragen. Dies gilt auch für die Arbeits- und Leistungswerte bei Pancaking-Entgelten nach § 14 Abs. 2 S. 3 StromNEV. Rückspeisemengen in das vorgelagerte Netz sind ebenfalls in den Spalten G und H mit negativen Vorzeichen einzutragen. Die Preise für die Rückspeisung sind in den Spalten I und J einzutragen und im Tabellenblatt "H.Erläuterungen" zu erläutern. Die sich aus der Betrachtung der Rückspeisung in die vorgelagerte Netz- oder Umspannebene ergebenden vermiedenen Netzentgelte, sind durch den Betreiber der vorgelagerten Netz- oder Umspannebene zu vergüten. Bitte beachten Sie die Wechselwirkung der Rückspeisung in die vorgelagerte Netz- oder Umspannebene mit der dezentralen Einspeisung. Die weiteren Hinweise zur Aufteilung der Rückspeisung entnehmen sie bitte den Erläuterungen unter E3. Dezentrale Einspeisung. Weitere sonstige Positionen können in den vorhergesehenen Leerzeilen berücksichtigt werden. Bei Sonstiges ist der Wert direkt einzutragen. In den Zeilen „Sonstiges“ sind regelmäßig Entgelte zu erfassen, die von den üblichen Entgelten für Netznutzung, d.h. dem Jahresleistungspreissystem für Entnahme mit registrierender Lastgangmessung abweichen. Eine Zusammenfassung von Entgeltbestandteilen ist unzulässig, so sind z.B. Entgelte für singuläre Betriebsmittel nach § 19 Abs. 3 StromNEV unter „Sonstiges“ als Euro-Betrag einzutragen. In den Spalten I und J sind die im jeweiligen Jahr geltenden Entgelte zu erfassen. Die Spalte B dient der Ermittlung der tatsächlich entstandenen Kosten, es sind Formeln hinterlegt.
B80: E3. Dezentrale Einspeisung
B82: Nachweis Kosten für dezentrale Vergütung - vermiedene Netzentgelte Die Beschlusskammer 8 akzeptiert für die Prüfung des Regulierungskontos das Tool der Regulierungskammer des Freistaates Bayern als Nachweis zur Ermittlung der vermiedenen Netzentgelte. Netzbetreiber können mit Hilfe des Tools die vermiedenen Netzentgelte ermitteln, d.h. im Tabellenblatt E3 erfolgt dann keine weitere Plausibilisierung. Die tatsächlich entstandenen Kosten für die Vergütung für dezentrale Erzeugungsanlagen im Tabellenblatt E3 müssen in diesem Fall mit den im Tool der bayrischen Regulierungskammer ermittelten vermiedenen Netzentgelten übereinstimmen. Die Eintragung erfolgt in der überschreibbaren Zelle D4. Das Tool der bayrischen Regulierungskammer ist an die Beschlusskammer gemeinsam mit dem Erhebungsbogen zum Regulierungskonto zu übersenden. Die in diesem Tabellenblatt abgefragten Daten dienen der Differenzbildung zwischen den in der Erlösobergrenze enthaltenen und den tatsächlich entstandenen Kosten im jeweiligen Jahr für die Vergütung von dezentralen Einspeisern. In Zelle D5 ist der für das jeweilige Jahr in der Erlösobergrenze enthaltene Betrag einzutragen. Die tatsächlichen Kosten werden anhand der Vermeidungsarbeit und -leistung bestimmt. Ab Zeile 55 können die dezentralen Erzeugungsanlagen eingetragen werden, dabei können die Einzelanlagen zu Vergütungs- bzw. Einspeisekategorien zusammengefasst werden. z.B. können die Anlagen, differenziert nach tatsächlicher Vermeidungsleistung („Ist“) oder verstetigter Vermeidungsleistung, erfasst werden. In der Spalte B „Bezeichnung des Einspeisers (auch zusammengefasste Anlagen)“ sind insbesondere die zusammengefassten Anlagen mit einer sinnvollen Bezeichnung zu versehen. Bitte beachten Sie, dass eine Rückspeisung aus volatilen Erzeugungsanlagen (Wind und Solar) zu keiner Vergütung führt. Die Zeile wird ausgegraut. Lediglich die Leistungs- und Arbeitswerte sind einzutragen. Die in Spalte „M“ und „P“ angegebenen Korrektur- bzw. Skalierungsfaktoren sind so zu verstehen, dass dort alle relevanten Faktoren zur Berechnung des korrekten Leistungs-/Arbeitspreises aus dem Preis des Referenzpreisblattes multiplikativ verknüpft werden, bspw. der Faktor 2/3 oder 0 für volatile Einspeiser und ein Reduktionsfaktor aufgrund von Rückspeisung zur Reduzierung des Arbeitspreises. Die Zusammensetzung des Korrektur- bzw. Skalierungsfaktors ist im Tabellenblatt „H.Erläuterungen“ zu beschreiben. Ab Zeile 55 können auch diejenigen dezentralen Erzeugungsnanlagen eingetragen werden, die im Jahr 2016 in Netzteilen angeschlossen waren, die durch einen Netzübergang nach § 26 ARegV aufgenommen wurden. Für diese dezentralen Erzeugungsanlagen ist das Referenzpreisblatt des abgebenden Netzbetreibers heranzuziehen, soweit der Netzübergang nach dem 31.12.2021 erfolgte.
B83: Rückspeisungen stellen dezentrale Einspeisungen der unterlagerten Netzebene in die jeweilige vorgelagerte Netzebene dar, d.h. die Rückspeisung aus der MS-Ebene wird als dezentrale Einspeisung in die Umspannebene HS/MS eingetragen – analog zu den übrigen dezentralen Erzeugungsanlagen, die in diese Umspannebne einspeisen. Soweit nichts anderes nachgewiesen wird, sind Rückspeisungen als volatile Einspeisung zu bewerten. Abweichungen von diesem Regelfall sind im Tabellenblatt H. zu erläutern. Die Höchstspannungsebene ist von der Betrachtung der Rückspeisungen ausgenommen. Aufteilung der vermiedenen Netzentgelte für Rückspeisungen in die vorgelagerte Netz- oder Umspannebene: Eine Aufteilung nach individuellen tatsächlichen Anteilen der einzelnen dezentralen Erzeugungsanlage an diesem vermiedenen Entgelt in Arbeits- und Leistungsanteilen ist, insbesondere bei verschiedenen zuständigen Netzbetreibern, ohne großen administrativen Aufwand nicht möglich. Es ist daher sachgerecht, in Anlehnung an die Intention des Normengebers, diesen Betrag auf alle dezentralen Erzeugungsanlagen der betrachteten Netz- oder Umspannebene aufzuteilen. Als Aufteilungsschlüssel bietet sich die tatsächlich eingespeiste Arbeit der einzelnen dezentralen Erzeugungsanlage an. Die Aufteilung erfolgt anhand der eingespeisten summierten Jahresarbeitswerte pro Netz- o-der Umspannebene, einschließlich der Rückspeisung aus der nachgelagerten Netz- oder Umspannebene. Die Rückspeisung aus der nachgelagerten Netz- oder Umspannebene wird mit der rückgespeisten Arbeitsmenge im Verhältnis volatil/nicht volatil in der nachgelagerten Netz- oder Umspannebene berücksichtigt. Über den auf der Basis der Arbeitswerte ermittel-ten Schlüssel werden anschließend Arbeits- und Leistungswerte aufgeteilt. Ein nachgelagerter Netzbetreiber meldet die aufgeteilte eingespeiste Energiemenge (Arbeit) in seinem Netzgebiet an den vorgelagerten Netzbetreiber.
B85: E4.a. MSB (inkl. Messung)
...

Sheet Changelog
B1: Changelog
B3: Jahr | C3: Version | D3: Datum | E3: Bezeichnung | F3: Tabellenblatt | G3: Zellbereich | H3: Beschreibung
B4: 2024 | C4: 1.0 | D4: 45849 | E4: EHB_RegKto_Strom_2024_1.0_20250711 | F4: Im Jahr 2024 gibt es erstmalig getrennte Erhebungsbögen für Verteilernetzbetreiber und Übertragungsnetzbetreiber, da die Inhalte in den letzten Jahren zunehmend auseinander gefallen sind. Daher sind alle ÜNB-spefischen Abfragen und die Netzebene Höchstspannung in diesem Erhebungsbogen weggefallen. Darüber hinaus sind folgende wesentliche Änderungen gegenüber dem Erhebungsbogen für 2023 gemacht wurden:
F5: E1. | H5: Form an Abfrage gem. § 28 Nr. 3 und 4 ARegV (Verprobung) angepasst; Eingabebereich zu §14a EnWG eingefügt
F6: E2. | H6: Form an Abfrage gem. § 28 Nr. 1 ARegV (Anpassung Erlösobergrenze) angepasst
F7: E4b. | H7: Neu eingefügt, Abfrage zu Jahresabschlussdaten gem. MSbG gelöscht
F8: E5. | H8: Löschung
F9: E7. | G9: Zeile 26 ff. | H9: Verknüpfung der Datenabfrage für Zugänge ab 2022 ff mit Tab. "E8.b."
F10: E8. | H10: Umgestaltung des Tab. aufgrund der neuen Regelungen zur Zugangsjahr-bezogenen Verzinsung
F11: E10. | G11: Zeile 17 ff. | H11: Abfrage zur Verlustenergie neu eingefügt
F12: G. | G12: C8:H8 | H12: Anpassung Zinssatz für 2024
C13: 1.1 | D13: 45897 | E13: EHB_RegKto_Strom_2024_1.1_20250825 | F13: E8. | G13: Zeilen 18 bis 20 | H13: Fehler bei der automatischen Zeilenbefüllung beseitigt
F14: E10. | G14: H12 und H16 | H14: Formelfehler korrigiert (jeweils den Divisor 100 durch 1.000 ersetzt)
C15: 1.2 | D15: 45936 | E15: EHB_RegKto_Strom_2024_1.1_20251006 | F15: F. | G15: F16 und F17 | H15: Fehler in Formeln korrigiert. Berechnung erfolgt ohne Capex
B16: 2025 | C16: '1.0 | D16: 46279 | E16: EHB_RegKto_Strom_2025_1.0_20260914 | F16: A. | G16: B14:C15 | H16: Neu eingefügt
F17: A4. | G17: Spalten C bis P | H17: Löschung der Abfrage zum Gesamtunternehmen
F18: A6. | H18: Neu eingefügt
F19: E1. | G19: B5:C8 | H19: Neu eingefügt
G20: Zeilen 76 bis 78 | H20: Löschung
G21: Zeilen 82 bis 89 | H21: Neu eingefügt
G22: Zeile 99 | H22: Neu eingefügt
G23: Zeilen 126 bis 128 | H23: Neu eingefügt
G24: B130 | H24: Umbenennung der Überschrift
G25: Zeile 163 | H25: Löschung
F26: E2. | G26: Zeile 17 | H26: Neu eingefügt
G27: C20:C21 | H27: Umbenennung der Überschrift
G28: G20:H20 | H28: Umbenennung der Überschrift
G29: D22:D221 | H29: Zellformate geändert (Zellen nunmehr überschreibbar)
F30: E3. | G30: D4 | H30: Zellformate geändert (Zelle nunmehr überschreibbar)
F31: E4.b. | G31: Zeilen 15 und 16 | H31: Zusammenfassung in eine Zeile, da seit 2025 nach einer MsbG Änderung beim optionalen Rollout für den Jahresstromverbrauch bis 6.000 kWh nur noch eine POG gilt
G32: Zeile 20 | H32: Änderung Text, da es seit 2025 nach einer MsbG-Änderung gemäß § 30 Abs.5 MsbG jetzt zulässig ist, die POG für jeden zusätzlich angebundenen Zählpunkt zu vereinnahmen
F33: E7. | G33: E4 | H33: Formel geändert
F34: E8. | G34: alle | H34: Zugangsjahr 2025 hinzugefügt, Zinssätze aktualisiert
F35: E8.a., E8.b., E8.c. | G35: Hinzurechnungen/Kürzungen | H35: Spalten zu diesbezüglichen Erläuterungen hinzugefügt
F36: E.10. | G36: C3 | H36: Umbenennung der Überschrift
F37: F. | G37: Zeilen 5 bis 8 | H37: Neu eingefügt
F38: G. | G38: C8:H8 | H38: Anpassung Zinssatz für 2025
C39: 1.1 | D39: 46287 | E39: EHB_RegKto_Strom_2025_1.1_20260922 | F39: E7. | G39: C25:E25 und I25:K25 | H39: Formelfehler korrigiert

Sheet A. Allgemeine Informationen
A1: =Changelog!E39 -> EHB_RegKto_Strom_2025_1.1_20260922
B2: Erhebungsbogen Regulierungskonto (§ 5 ARegV)
B3: A. Allgemeine Informationen Stromnetzbetreiber
B5: Abgabedatum des Erhebungsbogens:
B7: Bilanzstichtag:
B9: Firma und Rechtsform des Stromnetzbetreibers:
B11: Betriebsnummer der Bundesnetzagentur:
B12: Netznummer der Bundesnetzagentur:
B13: MaStR-Nr.:
B14: Verfahrensart bei der Bundesnetzagentur: | C14: Bitte wählen
B15: Vergleich zum FK-Zins abgeschlossen: | C15: Bitte wählen
B17: Mitteilung der für die Führung des Regulierungs- kontos notwendigen Daten des Kalenderjahres | C17: 2025

Sheet A1. Umsatzerlöse
B1: ="A1. Umsatzerlöse aus Elektrizitätsverteilung " & 'A. Allgemeine Informationen'!C17 -> A1. Umsatzerlöse aus Elektrizitätsverteilung 2025
B3: Bezeichnung | C3: [EUR]
B4: Erlöse aus Netzentgelten Elektrizität (inkl. Messung und Messstellenbetrieb)
B5: Erlöse aus Vereinbarungen gemäß § 14 Abs. 2 StromNEV
B6: Erlöse gemäß § 3 KAV
B7: Erlöse aus Vereinbarungen gemäß § 19 Abs. 2 S. 1 StromNEV
B8: Erlöse aus Vereinbarungen gemäß § 19 Abs. 2 S. 2 StromNEV
B9: Erlöse aus der Überlassung singulär genutzter Betriebsmittel gemäß § 19 Abs. 3 StromNEV
B10: Erlöse aus Vereinbarungen gemäß § 19 Abs. 4 StromNEV
B11: Erlöse aus Rückspeisung an den vorgelagerten Netzbetreiber
B12: sonstige Erlöse aus Netzentgelten Elektrizität
B13: Konzessionsabgabe
B14: Erlöse aus dem EEG-Ausgleichsmechanismus
B15: Erlöse aus dem KWKG-Belastungsausgleich
... B23: sonstige Erlöse (nicht aus Netzentgelten)
B24: = Umsatzerlöse aus Elektrizitätsverteilung | C24: =SUM(C4:C23) -> 0

Sheet A2. Bilanz
B1: ="A2. Überleitung von der handelsrechtlichen Bilanz " & 'A. Allgemeine Informationen'!C17 &" zum elektronischen Datenerhebungsbogen" -> A2. Überleitung von der handelsrechtlichen Bilanz 2025 zum elektronischen Datenerhebungsbogen
B3: Position | C3: Bilanz Gesamtunter- nehmen [EUR] | D3: Bilanz nach Sparten | H3: Bilanz Strom nach Aktivitäten
D4: Sonstige Sparten [EUR] | E4: Gas [EUR] | F4: Strom [EUR] | G4: Bilanz gesamt [EUR] | H4: Grundzuständiger Messstellen- betrieb von modernen Messein- richtungen und intelligenten Messsystemen nach MsbG [EUR] | I4: Elektromobilität [EUR] | J4: Sonstige in der Sparte Strom [EUR] | K4: Stromverteilung (Netz) gesamt [EUR]
B5: Aktiva | C5: =C6+C10+C15+C16 -> 0 | D5: =D6+D10+D15+D16 -> 0 | E5: =E6+E10+E15+E16 -> 0 | F5: =F6+F10+F15+F16 -> 0 | G5: =D5+E5+F5 -> 0 | H5: =H6+H10+H15+H16 -> 0 | I5: =I6+I10+I15+I16 -> 0 | J5: =J6+J10+J15+J16 -> 0 | K5: =K6+K10+K15+K16 -> 0
B6: A. Anlagevermögen | C6: =SUM(C7:C9) -> 0 | D6: =SUM(D7:D9) -> 0 | E6: =SUM(E7:E9) -> 0 | F6: =SUM(F7:F9) -> 0 | G6: =SUM(G7:G9) -> 0 | H6: =SUM(H7:H9) -> 0 | I6: =SUM(I7:I9) -> 0 | J6: =SUM(J7:J9) -> 0 | K6: =SUM(K7:K9) -> 0
B7: I. Immaterielle Vermögensgegenstände | G7: =D7+E7+F7 -> 0
B8: II. Sachanlagen | G8: =D8+E8+F8 -> 0
B9: III. Finanzanlagen | G9: =D9+E9+F9 -> 0
B10: B. Umlaufvermögen | C10: =SUM(C11:C14) -> 0 | D10: =SUM(D11:D14) -> 0 | E10: =SUM(E11:E14) -> 0 | F10: =SUM(F11:F14) -> 0 | G10: =SUM(G11:G14) -> 0 | H10: =SUM(H11:H14) -> 0 | I10: =SUM(I11:I14) -> 0 | J10: =SUM(J11:J14) -> 0 | K10: =SUM(K11:K14) -> 0
B11: I. Vorräte | G11: =D11+E11+F11 -> 0
B12: II. Forderungen und sonstige Vermögensgegenstände | G12: =D12+E12+F12 -> 0
B13: III. Wertpapiere | G13: =D13+E13+F13 -> 0
B14: IV. Kassenbestand, Bundesbankguthaben, Guthaben bei Kreditinstituten und Schecks | G14: =D14+E14+F14 -> 0
B15: C. Rechnungsabgrenzungsposten | G15: =D15+E15+F15 -> 0
B16: D. Sonderverlustkonto aus Rückstellungsbildung | G16: =D16+E16+F16 -> 0
B17: Passiva | C17: =C18+SUM(C24:C29) -> 0 | D17: =D18+SUM(D24:D29) -> 0 | E17: =E18+SUM(E24:E29) -> 0 | F17: =F18+SUM(F24:F29) -> 0 | G17: =G18+SUM(G24:G29) -> 0 | H17: =H18+SUM(H24:H29) -> 0 | I17: =I18+SUM(I24:I29) -> 0 | J17: =J18+SUM(J24:J29) -> 0 | K17: =K18+SUM(K24:K29) -> 0
B18: A. Eigenkapital | C18: =SUM(C19:C23) -> 0 | D18: =SUM(D19:D23) -> 0 | E18: =SUM(E19:E23) -> 0 | F18: =SUM(F19:F23) -> 0 | G18: =SUM(G19:G23) -> 0 | H18: =SUM(H19:H23) -> 0 | I18: =SUM(I19:I23) -> 0 | J18: =SUM(J19:J23) -> 0 | K18: =SUM(K19:K23) -> 0
B19: I. Gezeichnetes Kapital | G19: =D19+E19+F19 -> 0
B20: II. Kapitalrücklage | G20: =D20+E20+F20 -> 0
B21: III. Gewinnrücklagen | G21: =D21+E21+F21 -> 0
B22: IV. Gewinnvortrag/Verlustvortrag | G22: =D22+E22+F22 -> 0
B23: V. Bilanzgewinn | G23: =D23+E23+F23 -> 0
B24: B. Sonderposten mit Rücklagenanteil | G24: =D24+E24+F24 -> 0
B25: C. Sonderposten für Investitionszuschüsse | G25: =D25+E25+F25 -> 0
B26: D. Baukostenzuschüsse | G26: =D26+E26+F26 -> 0
B27: E. Rückstellungen | G27: =D27+E27+F27 -> 0
B28: F. Verbindlichkeiten | G28: =D28+E28+F28 -> 0
B29: G. Rechnungsabgrenzungsposten | G29: =D29+E29+F29 -> 0

Sheet A3. GuV
B1: ="A3. Überleitung von der handelsrechtlichen Gewinn- und Verlustrechnung " & 'A. Allgemeine Informationen'!C17 & " zum elektronischen Datenerhebungsbogen" -> A3. Überleitung von der handelsrechtlichen Gewinn- und Verlustrechnung 2025 zum elektronischen Datenerhebungsbogen
B3: Position | C3: Gewinn- und Verlustrechnung Gesamtunter- nehmen [EUR] | D3: Gewinn- und Verlustrechnung nach Sparten | H3: Gewinn- und Verlustrechnung nach Aktivitäten
D4: Sonstige Sparten [EUR] | E4: Gas [EUR] | F4: Strom [EUR] | G4: GuV gesamt [EUR] | H4: Grundzuständiger Messstellen betrieb von modernen Messein- richtungen und intelligenten Messsystemen nach MsbG [EUR] | I4: Elektromobilität [EUR] | J4: Sonstige Aktivitäten in der Sparte Strom [EUR] | K4: Stromverteilung (Netz) gesamt [EUR]
B5: 1. Umsatzerlöse | G5: =F5+E5+D5 -> 0
B6: 2. Erhöhung oder Verminderung des Bestandes an fertigen und unfertigen Erzeugnissen | G6: =F6+E6+D6 -> 0
B7: 3. andere aktivierte Eigenleistungen | G7: =F7+E7+D7 -> 0
B8: 4. sonstige betriebliche Erträge | G8: =F8+E8+D8 -> 0
B9: 5. Materialaufwand | G9: =F9+E9+D9 -> 0
B10: 6. Personalaufwand | G10: =F10+E10+D10 -> 0
B11: 7. Abschreibungen | G11: =F11+E11+D11 -> 0
B12: 8. sonstige betriebliche Aufwendungen | G12: =F12+E12+D12 -> 0
B13: 9. Erträge aus Beteiligungen | G13: =F13+E13+D13 -> 0
B14: 10. Erträge aus anderen Wertpapieren und Ausleihungen des Finanzanlagevermögens | G14: =F14+E14+D14 -> 0
B15: 11. sonstige Zinsen und ähnliche Erträge | G15: =F15+E15+D15 -> 0
B16: 12. Abschreibungen auf Finanzanlagen und auf Wertpapiere des Umlaufvermögens | G16: =F16+E16+D16 -> 0
B17: 13. Zinsen und ähnliche Aufwendungen | G17: =F17+E17+D17 -> 0
B18: 14. Ergebnis der gewöhnlichen Geschäftstätigkeit | C18: =SUM(C5:C9,C10:C17) -> 0 | D18: =SUM(D5:D9,D10:D17) -> 0 | E18: =SUM(E5:E9,E10:E17) -> 0 | F18: =SUM(F5:F9,F10:F17) -> 0 | G18: =F18+E18+D18 -> 0 | H18: =SUM(H5:H9,H10:H17) -> 0 | I18: =SUM(I5:I9,I10:I17) -> 0 | J18: =SUM(J5:J9,J10:J17) -> 0 | K18: =SUM(K5:K9,K10:K17) -> 0
B19: 15. außerordentliche Erträge | G19: =F19+E19+D19 -> 0
B20: 16. außerordentliche Aufwendungen | G20: =F20+E20+D20 -> 0
B21: 17. außerordentliches Ergebnis | C21: =C19+C20 -> 0 | D21: =D19+D20 -> 0 | E21: =E19+E20 -> 0 | F21: =F19+F20 -> 0 | G21: =F21+E21+D21 -> 0 | H21: =H19+H20 -> 0 | I21: =I19+I20 -> 0 | J21: =J19+J20 -> 0 | K21: =K19+K20 -> 0
B22: 18. Steuern vom Einkommen und vom Ertrag | G22: =F22+E22+D22 -> 0
B23: 19. sonstige Steuern | G23: =F23+E23+D23 -> 0
B24: 20. Erträge aus Verlustübernahme | G24: =F24+E24+D24 -> 0
B25: 21. Aufwendungen aus Gewinnabführung | G25: =F25+E25+D25 -> 0
B26: 22. Jahresüberschuss/Jahresfehlbetrag | C26: =SUM(C18,C21:C25) -> 0 | D26: =SUM(D18,D21:D25) -> 0 | E26: =SUM(E18,E21:E25) -> 0 | F26: =SUM(F18,F21:F25) -> 0 | G26: =F26+E26+D26 -> 0 | H26: =SUM(H18,H21:H25) -> 0 | I26: =SUM(I18,I21:I25) -> 0 | J26: =SUM(J18,J21:J25) -> 0 | K26: =SUM(K18,K21:K25) -> 0
B27: 23. Gewinnvortrag aus dem Vorjahr | G27: =F27+E27+D27 -> 0
B28: 24. Einstellung in Gewinnrücklagen | G28: =F28+E28+D28 -> 0
B29: 25. Bilanzgewinn | C29: =C26+C27+C28 -> 0 | D29: =D26+D27+D28 -> 0 | E29: =E26+E27+E28 -> 0 | F29: =F26+F27+F28 -> 0 | G29: =F29+E29+D29 -> 0 | H29: =H26+H27+H28 -> 0 | I29: =I26+I27+I28 -> 0 | J29: =J26+J27+J28 -> 0 | K29: =K26+K27+K28 -> 0

Sheet A4. Anlagenspiegel
B1: A4. Anlagenspiegel
